BEGIN:VCALENDAR
VERSION:2.0
PRODID:-//LILJ//Events//EN
CALSCALE:GREGORIAN
METHOD:PUBLISH
BEGIN:VEVENT
UID:event-160848@lilaxjournal.com
DTSTAMP:20260422T121752Z
DTSTART;VALUE=DATE:20261101
DTEND;VALUE=DATE:20261102
SUMMARY:Players Open Girls
LOCATION:Iron Peake - Hillsborough\, NJ
DESCRIPTION:Top individual girls lacrosse recruiting experience of the Fall.\n\nhttps://lilaxjournal.com/?p=160848
URL:https://lilaxjournal.com/?p=160848
END:VEVENT
END:VCALENDAR
