BEGIN:VCALENDAR
VERSION:2.0
PRODID:-//LILJ//Events//EN
CALSCALE:GREGORIAN
METHOD:PUBLISH
BEGIN:VEVENT
UID:event-253830@lilaxjournal.com
DTSTAMP:20260423T114919Z
DTSTART;VALUE=DATE:20260606
DTEND;VALUE=DATE:20260608
SUMMARY:Juniors Open Boys
LOCATION:University of Pennsylvania\, Philadelphia\, PA
DESCRIPTION:The top invite-only boys lacrosse showcase nationally. \n\nhttps://lilaxjournal.com/?p=253830
URL:https://lilaxjournal.com/?p=253830
END:VEVENT
END:VCALENDAR
