BEGIN:VCALENDAR
VERSION:2.0
PRODID:-//LILJ//Events//EN
CALSCALE:GREGORIAN
METHOD:PUBLISH
BEGIN:VEVENT
UID:event-253902@lilaxjournal.com
DTSTAMP:20260423T114920Z
DTSTART;VALUE=DATE:20260623
DTEND;VALUE=DATE:20260626
SUMMARY:Juniors Open Girls
LOCATION:Iron Peak Sports & Events\, Hillsborough\, NJ
DESCRIPTION:North America's top invite-only girls lacrosse showcase.\n\nhttps://lilaxjournal.com/?p=253902
URL:https://lilaxjournal.com/?p=253902
END:VEVENT
END:VCALENDAR
